BEGIN:VCALENDAR
VERSION:2.0
PRODID:-//True Up - ECPv6.15.18//NONSGML v1.0//EN
CALSCALE:GREGORIAN
METHOD:PUBLISH
X-WR-CALNAME:True Up
X-ORIGINAL-URL:https://trueupky.org
X-WR-CALDESC:Events for True Up
REFRESH-INTERVAL;VALUE=DURATION:PT1H
X-Robots-Tag:noindex
X-PUBLISHED-TTL:PT1H
BEGIN:VTIMEZONE
TZID:America/Kentucky/Louisville
BEGIN:DAYLIGHT
TZOFFSETFROM:-0500
TZOFFSETTO:-0400
TZNAME:EDT
DTSTART:20210314T070000
END:DAYLIGHT
BEGIN:STANDARD
TZOFFSETFROM:-0400
TZOFFSETTO:-0500
TZNAME:EST
DTSTART:20211107T060000
END:STANDARD
BEGIN:DAYLIGHT
TZOFFSETFROM:-0500
TZOFFSETTO:-0400
TZNAME:EDT
DTSTART:20220313T070000
END:DAYLIGHT
BEGIN:STANDARD
TZOFFSETFROM:-0400
TZOFFSETTO:-0500
TZNAME:EST
DTSTART:20221106T060000
END:STANDARD
BEGIN:DAYLIGHT
TZOFFSETFROM:-0500
TZOFFSETTO:-0400
TZNAME:EDT
DTSTART:20230312T070000
END:DAYLIGHT
BEGIN:STANDARD
TZOFFSETFROM:-0400
TZOFFSETTO:-0500
TZNAME:EST
DTSTART:20231105T060000
END:STANDARD
BEGIN:DAYLIGHT
TZOFFSETFROM:-0500
TZOFFSETTO:-0400
TZNAME:EDT
DTSTART:20240310T070000
END:DAYLIGHT
BEGIN:STANDARD
TZOFFSETFROM:-0400
TZOFFSETTO:-0500
TZNAME:EST
DTSTART:20241103T060000
END:STANDARD
END:VTIMEZONE
BEGIN:VEVENT
DTSTART;TZID=America/Kentucky/Louisville:20230116T130000
DTEND;TZID=America/Kentucky/Louisville:20230116T140000
DTSTAMP:20260423T135146
CREATED:20230112T200826Z
LAST-MODIFIED:20230112T200826Z
UID:280-1673874000-1673877600@trueupky.org
SUMMARY:Art & Activism
DESCRIPTION:Join UofL’s African American Theatre Program as participants celebrate the life and legacy of Reverend Dr. Martin Luther King Jr. Come celebrate with groups like The Real Young Prodigys\, Redline Performing Arts\, FaithWorks Studios\, and more. Monday\, January 16 at 1:00pm to 2:00pm at The Playhouse\, 1911 S. 3rd St. in Louisville.
URL:https://trueupky.org/event/art-activism/
END:VEVENT
BEGIN:VEVENT
DTSTART;TZID=America/Kentucky/Louisville:20220910T100000
DTEND;TZID=America/Kentucky/Louisville:20220910T100000
DTSTAMP:20260423T135146
CREATED:20220811T155700Z
LAST-MODIFIED:20220811T155700Z
UID:231-1662804000-1662804000@trueupky.org
SUMMARY:Loving You Webinar (For 16 and 17 year old Foster Youth ONLY)
DESCRIPTION:Youth who attend will learn about the importance of setting boundaries and establishing consent in healthy relationships. They will also learn strategies for caring for their mental health and nuturing the most important relationship they will ever have\, with themselves!\n*****Youth must be currently in foster care and 16 – 17 to attend*****\n*****Youth must register using their own personal email address. Youth cannot register using a staff or school email address*****\n*****Youth who attend will receive a 1\,000 e-visa gift card***** \nRegister Now
URL:https://trueupky.org/event/loving-you-webinar-for-16-and-17-year-old-foster-youth-only/
END:VEVENT
BEGIN:VEVENT
DTSTART;TZID=America/Kentucky/Louisville:20220815T170000
DTEND;TZID=America/Kentucky/Louisville:20220815T170000
DTSTAMP:20260423T135146
CREATED:20220811T155435Z
LAST-MODIFIED:20220811T155435Z
UID:230-1660582800-1660582800@trueupky.org
SUMMARY:FYI/FUP Webinar
DESCRIPTION:This meeting is for youth using a FYI/FUP Section 8 Housing Voucher Only. Youth will learn about new assistance offered through their housing voucher that can attend assistance for an additionl 24 months.\n****Youth who attend AND complete the survey will recieve a $500 e-visa gift card**** \nRegister Now\n 
URL:https://trueupky.org/event/fyi-fup-webinar/
END:VEVENT
BEGIN:VEVENT
DTSTART;TZID=America/Kentucky/Louisville:20220726T180000
DTEND;TZID=America/Kentucky/Louisville:20220726T193000
DTSTAMP:20260423T135146
CREATED:20220713T212455Z
LAST-MODIFIED:20220713T212455Z
UID:206-1658858400-1658863800@trueupky.org
SUMMARY:July Networking Night by Office for Safe and Healthy Neighborhoods
DESCRIPTION:The Office for Safe and Healthy Neighborhoods (OSHN) would like to invite you to be a part of the One Love Louisville Ambassador Program’s Networking Night. This is an opportunity for citizens to come out and learn about as well as contribute to Louisville’s Comprehensive Violence Prevention Plan. It’s also an opportunity to network with both OSHN partners and one another. \n* Registration is required \nRegister Now
URL:https://trueupky.org/event/july-networking-night-by-office-for-safe-and-healthy-neighborhoods/
END:VEVENT
BEGIN:VEVENT
DTSTART;TZID=America/Kentucky/Louisville:20220726T083000
DTEND;TZID=America/Kentucky/Louisville:20220726T173000
DTSTAMP:20260423T135146
CREATED:20220713T212933Z
LAST-MODIFIED:20220713T212933Z
UID:208-1658824200-1658856600@trueupky.org
SUMMARY:Education Advocacy Conference by The Book Works
DESCRIPTION:Educators\, community organizations\, local and state leaders\, parents and young people\, are invited to join The Book Works on Tuesday\, July 26th from 8:30am-5:30pm at Louisville Central Community Center. The Book Works\, with Coalition Supporting Young Adults\, JCPS\, and community partners are hosting a conference on re-connecting Louisville’s high school age learners with a path to graduation. There is no charge for attending the conference and meals are included. Find more information and register online. For any questions\, email conference@thebookworks.org. \nRegister Now
URL:https://trueupky.org/event/education-advocacy-conference-by-the-book-works/
END:VEVENT
BEGIN:VEVENT
DTSTART;TZID=America/Kentucky/Louisville:20220722T093000
DTEND;TZID=America/Kentucky/Louisville:20220722T150000
DTSTAMP:20260423T135146
CREATED:20220713T212709Z
LAST-MODIFIED:20220713T212709Z
UID:207-1658482200-1658502000@trueupky.org
SUMMARY:Louisville Central Community Centers' Teen Summit
DESCRIPTION:Join the Louisville Central Community Centers (LCCC) on Friday\, July 22nd from 9:30am-3:00pm for the 7th Annual Teen Summit. This year’s summit will focus on self-love and self-worth. The summit is designed for youth to come together to network and discuss social issues and topics through engaging\, inspiring and empowerment. There will be special performance by Shades of Ebony and lunch will be provided. \nRegister Now
URL:https://trueupky.org/event/louisville-central-community-centers-teen-summit/
END:VEVENT
BEGIN:VEVENT
DTSTART;TZID=America/Kentucky/Louisville:20220720T120000
DTEND;TZID=America/Kentucky/Louisville:20220921T130000
DTSTAMP:20260423T135146
CREATED:20220713T213236Z
LAST-MODIFIED:20220713T213257Z
UID:209-1658318400-1663765200@trueupky.org
SUMMARY:The Community Table Series on Homelessness
DESCRIPTION:The Coalition for the Homeless and Anthem Medicaid are hosting a statewide\, virtual training series called The Community Table\, which will be held virtually on the first and third Wednesday of each month from 12:00-1:00 PM ET. The Community Table is a unique series designed for case managers and other service providers assisting those facing homelessness and housing insecurity throughout Kentucky. All of the sessions are FREE but spots are limited. Find more information and register online. \nRegister Now
URL:https://trueupky.org/event/the-community-table-series-on-homelessness/
END:VEVENT
BEGIN:VEVENT
DTSTART;TZID=America/Kentucky/Louisville:20220716T100000
DTEND;TZID=America/Kentucky/Louisville:20220716T140000
DTSTAMP:20260423T135146
CREATED:20220615T191518Z
LAST-MODIFIED:20220615T191518Z
UID:189-1657965600-1657980000@trueupky.org
SUMMARY:Winners for Wellness
DESCRIPTION:Join Seven Counties Services and Bellwood & Brooklawn for a free\, community event focused on mental health awareness\, needs\, and resources for the minority community in Louisville and surrounding communities. \nRegister Now
URL:https://trueupky.org/event/winners-for-wellness/
END:VEVENT
BEGIN:VEVENT
DTSTART;TZID=America/Kentucky/Louisville:20220712T150000
DTEND;TZID=America/Kentucky/Louisville:20220712T163000
DTSTAMP:20260423T135146
CREATED:20220415T121650Z
LAST-MODIFIED:20220415T121718Z
UID:165-1657638000-1657643400@trueupky.org
SUMMARY:Journey to Success KY Stakeholder Workgroup
DESCRIPTION:Kentucky Youth Advocates and True Up are leading a project to build advocacy momentum for the Journey to Success federal policy reform campaign. This campaign seeks to improve opportunities and outcomes for all youth and young adults who experience foster care by promoting their healing\, family connections\, and economic security. \nThe goals of the Kentucky stakeholder workgroup are to determine priorities to lift up in KY based on the needs of our young people in foster care and collectively advocate for federal policy change to improve opportunities and outcomes for these young people. \nThe group will be meeting three times over the course of the next four months (all meetings will be held virtually via Zoom): \n-Tuesday\, May 10th from 3:00-4:30PM EST\n-Topic: Introduction to JTS Policy Framework + discussion of needs of KY’s current and former foster youth \n-Tuesday\, June 7th from 3:00-4:30PM EST\n-Topic: Discussion on JTS policy recommendations of most importance to KY youth/young adults \n-Tuesday\, July 12th\, from 3:00-4:30PM EST\n-Topic: Solidifying KY policy priorities and discussing next steps for collective advocacy \nAs part of this workgroup\, folks at the table will have the opportunity to advocate for KY’s current and former foster youth\, network with other advocates across the state\, and\, ultimately\, inform significant child welfare policy change at the federal level. \nIf you are interested in joining these meetings\, please Register Now. You will then receive a calendar invite with Zoom details. \nRegister Now
URL:https://trueupky.org/event/journey-to-success-ky-stakeholder-workgroup-3/
END:VEVENT
BEGIN:VEVENT
DTSTART;TZID=America/Kentucky/Louisville:20220607T150000
DTEND;TZID=America/Kentucky/Louisville:20220607T163000
DTSTAMP:20260423T135146
CREATED:20220415T121409Z
LAST-MODIFIED:20220415T121800Z
UID:164-1654614000-1654619400@trueupky.org
SUMMARY:Journey to Success KY Stakeholder Workgroup
DESCRIPTION:Kentucky Youth Advocates and True Up are leading a project to build advocacy momentum for the Journey to Success federal policy reform campaign. This campaign seeks to improve opportunities and outcomes for all youth and young adults who experience foster care by promoting their healing\, family connections\, and economic security. \nThe goals of the Kentucky stakeholder workgroup are to determine priorities to lift up in KY based on the needs of our young people in foster care and collectively advocate for federal policy change to improve opportunities and outcomes for these young people. \nThe group will be meeting three times over the course of the next four months (all meetings will be held virtually via Zoom): \n-Tuesday\, May 10th from 3:00-4:30PM EST\n-Topic: Introduction to JTS Policy Framework + discussion of needs of KY’s current and former foster youth \n-Tuesday\, June 7th from 3:00-4:30PM EST\n-Topic: Discussion on JTS policy recommendations of most importance to KY youth/young adults \n-Tuesday\, July 12th\, from 3:00-4:30PM EST\n-Topic: Solidifying KY policy priorities and discussing next steps for collective advocacy \nAs part of this workgroup\, folks at the table will have the opportunity to advocate for KY’s current and former foster youth\, network with other advocates across the state\, and\, ultimately\, inform significant child welfare policy change at the federal level. \nIf you are interested in joining these meetings\, please Register Now. You will then receive a calendar invite with Zoom details. \nRegister Now
URL:https://trueupky.org/event/journey-to-success-ky-stakeholder-workgroup-2/
END:VEVENT
BEGIN:VEVENT
DTSTART;TZID=America/Kentucky/Louisville:20220521T100000
DTEND;TZID=America/Kentucky/Louisville:20220521T180000
DTSTAMP:20260423T135146
CREATED:20220516T145427Z
LAST-MODIFIED:20220516T153602Z
UID:176-1653127200-1653156000@trueupky.org
SUMMARY:MindFEST Louisville 2022 Mental Health Festival - Community Event
DESCRIPTION:MindFEST Louisville 2022 Mental Health Festival \n\nSat May 21st 2022 10AM-6PM \n\nThis is a community event. \n\nLearn more at www.mindfestlou.com
URL:https://trueupky.org/event/mindfest-louisville-2022-community-event/
END:VEVENT
BEGIN:VEVENT
DTSTART;TZID=America/Kentucky/Louisville:20220510T150000
DTEND;TZID=America/Kentucky/Louisville:20220510T163000
DTSTAMP:20260423T135146
CREATED:20220415T121202Z
LAST-MODIFIED:20220415T121657Z
UID:163-1652194800-1652200200@trueupky.org
SUMMARY:Journey to Success KY Stakeholder Workgroup
DESCRIPTION:Kentucky Youth Advocates and True Up are leading a project to build advocacy momentum for the Journey to Success federal policy reform campaign. This campaign seeks to improve opportunities and outcomes for all youth and young adults who experience foster care by promoting their healing\, family connections\, and economic security. \nThe goals of the Kentucky stakeholder workgroup are to determine priorities to lift up in KY based on the needs of our young people in foster care and collectively advocate for federal policy change to improve opportunities and outcomes for these young people. \nThe group will be meeting three times over the course of the next four months (all meetings will be held virtually via Zoom): \n-Tuesday\, May 10th from 3:00-4:30PM EST\n-Topic: Introduction to JTS Policy Framework + discussion of needs of KY’s current and former foster youth \n-Tuesday\, June 7th from 3:00-4:30PM EST\n-Topic: Discussion on JTS policy recommendations of most importance to KY youth/young adults \n-Tuesday\, July 12th\, from 3:00-4:30PM EST\n-Topic: Solidifying KY policy priorities and discussing next steps for collective advocacy \nAs part of this workgroup\, folks at the table will have the opportunity to advocate for KY’s current and former foster youth\, network with other advocates across the state\, and\, ultimately\, inform significant child welfare policy change at the federal level. \nIf you are interested in joining these meetings\, please Register Now. You will then receive a calendar invite with Zoom details. \nRegister Now
URL:https://trueupky.org/event/journey-to-success-ky-stakeholder-workgroup/
END:VEVENT
BEGIN:VEVENT
DTSTART;TZID=America/Kentucky/Louisville:20220509T150000
DTEND;TZID=America/Kentucky/Louisville:20220509T160000
DTSTAMP:20260423T135146
CREATED:20220412T200914Z
LAST-MODIFIED:20220503T181412Z
UID:161-1652108400-1652112000@trueupky.org
SUMMARY:The True Up Peer Network
DESCRIPTION:note: This event is postponed and will be rescheduled shortly \nThe True Up Peer Network is a team of foster care alumni who have a passion for advocating for positive change within the child welfare system as it relates to foster care. This group will connect bimonthly and share ways to educate and advocate. Learn more and sign up to join the first meeting by contacting Cynthia Schepers. \n 
URL:https://trueupky.org/event/the-true-up-peer-network/
END:VEVENT
BEGIN:VEVENT
DTSTART;TZID=America/Kentucky/Louisville:20220428T120000
DTEND;TZID=America/Kentucky/Louisville:20220428T130000
DTSTAMP:20260423T135146
CREATED:20220412T200547Z
LAST-MODIFIED:20220412T200637Z
UID:160-1651147200-1651150800@trueupky.org
SUMMARY:Survivor's Healing Journey
DESCRIPTION:Join Face It and Family & Children’s Place as we hold space for survivors of child abuse during Child Abuse Prevention Month. We know that healing looks different for everyone and the journey is not necessarily linear. We will hear from survivor’s about their healing journey and ways to both individually and as a community support survivors of abuse. \nRegister Now
URL:https://trueupky.org/event/survivors-healing-journey/
END:VEVENT
BEGIN:VEVENT
DTSTART;TZID=America/Kentucky/Louisville:20220319T100000
DTEND;TZID=America/Kentucky/Louisville:20220917T121500
DTSTAMP:20260423T135146
CREATED:20220518T210413Z
LAST-MODIFIED:20220811T154900Z
UID:178-1647684000-1663416900@trueupky.org
SUMMARY:DCBS Presents Adulting 101 Master Classes
DESCRIPTION:Attention current and former foster youth… Register for Adulting 101 Master Classes!\n\n\n\nFor each class attended\, youth can earn $250!\n\nTopics include keys to a car/home purchase\, investing 101\, family planning/sexual health.\n\nVisit kyrise.ky.gov + click “Register for Upcoming Events.”
URL:https://trueupky.org/event/dcbs-presents-adulting-101-master-classes/
END:VEVENT
BEGIN:VEVENT
DTSTART;VALUE=DATE:20220118
DTEND;VALUE=DATE:20220122
DTSTAMP:20260423T135146
CREATED:20211221T222726Z
LAST-MODIFIED:20220224T163100Z
UID:99-1642464000-1642809599@trueupky.org
SUMMARY:Children’s Advocacy Week
DESCRIPTION:Thank you to the many advocates who attended the Rally for Kentucky Kids\, attended policy forums\, shared advocacy on social media\, and spoke with legislators to discuss the issues impacting youth. Thank you to the state leaders who spoke with groups of young people to inspire the next generation of leaders. Thank you to the young people who motivate us all to speak up for what’s best for kids and will bring a brighter future for all Kentuckians. Your voices and advocacy are vital in making Kentucky the best place to be young. \n\n\n\n\n\n\nView Event Recordings on YouTube
URL:https://trueupky.org/event/childrens-advocacy-week/
ATTACH;FMTTYPE=image/jpeg:https://trueupky.org/wp-content/uploads/2021/12/CAW-Horizontal-Image.jpg
ORGANIZER;CN="Kentucky Youth Advocates":MAILTO:info@kyyouth.org
END:VEVENT
BEGIN:VEVENT
DTSTART;TZID=America/Kentucky/Louisville:20220112T100000
DTEND;TZID=America/Kentucky/Louisville:20220112T110000
DTSTAMP:20260423T135146
CREATED:20220104T212111Z
LAST-MODIFIED:20220104T212313Z
UID:113-1641981600-1641985200@trueupky.org
SUMMARY:Children's Advocacy Week Virtual Prep Session
DESCRIPTION:Join Kentucky Youth Advocates as we discuss how to prepare for Children’s Advocacy Week (January 18th-21st)\, including reminders about events during the week and updates on key policies to discuss with legislators. \nWednesday\, January 12th\n10:00 AM-11:00 AM EST \nRegister Now!
URL:https://trueupky.org/event/childrens-advocacy-week-virtual-prep-session/
ATTACH;FMTTYPE=image/jpeg:https://trueupky.org/wp-content/uploads/2021/12/CAW-Horizontal-Image.jpg
ORGANIZER;CN="Kentucky Youth Advocates":MAILTO:info@kyyouth.org
END:VEVENT
END:VCALENDAR